BEGIN:VCALENDAR
VERSION:2.0
PRODID:-//eventon.com NONSGML v1.0//EN
BEGIN:VEVENT
UID:69e90a5b02e4d
DTSTAMP:20260422T195019
DTSTART:20260514T153000Z
DTEND:20260514T215000Z
LOCATION:
SUMMARY:UN ANNO DA MOUNJOU NEL CUORE DELL'AFRICA. A BOCARANGA CON IL CUAMM.
DESCRIPTION: UN ANNO DA MOUNJOU NEL CUORE DELL'AFRICA. A BOCARANGA CON IL CUAMM.
END:VEVENT
END:VCALENDAR