BEGIN:VCALENDAR
VERSION:2.0
PRODID:-//eventon.com NONSGML v1.0//EN
BEGIN:VEVENT
UID:69e8f0c526f66
DTSTAMP:20260422T180109
DTSTART:20260509T163000Z
DTEND:20260509T215000Z
LOCATION:
SUMMARY:CRESCERE LA SPERANZA: il lavoro quotidiano dei Medici con l'Africa per il diritto alla salute
DESCRIPTION: Un’appuntamento per approfondire il lavoro quotidiano di Medici con l’Africa Cuamm nei paesi piu’ fragili dell’Africa Sub Sahariana e la forte spinta solidale dei territori del basso Piemonte. Ospiti della serata: Don Dante Carraro ed i Medici con l’Africa “del” Cuamm!
END:VEVENT
END:VCALENDAR