BEGIN:VCALENDAR
VERSION:2.0
PRODID:-//eventon.com NONSGML v1.0//EN
BEGIN:VEVENT
UID:69e8d670d2a85
DTSTAMP:20260422T160848
DTSTART:20260504T153000Z
DTEND:20260504T215000Z
LOCATION:
SUMMARY:APERIWOLISSO
DESCRIPTION: APERIWOLISSO
END:VEVENT
END:VCALENDAR