BEGIN:VCALENDAR
VERSION:2.0
PRODID:-//eventon.com NONSGML v1.0//EN
BEGIN:VEVENT
UID:69e8c160f24a9
DTSTAMP:20260422T143856
DTSTART:20260427T163000Z
DTEND:20260427T215000Z
LOCATION:
SUMMARY:REBELLA LOVE FESTIVAL - TALK CULTURALE CON CUAMM
DESCRIPTION: REBELLA LOVE FESTIVAL - TALK CULTURALE CON CUAMM
END:VEVENT
END:VCALENDAR