BEGIN:VCALENDAR
VERSION:2.0
PRODID:-//eventon.com NONSGML v1.0//EN
BEGIN:VEVENT
UID:69e8942d64339
DTSTAMP:20260422T112605
DTSTART:20260523T173000Z
DTEND:20260523T215000Z
LOCATION:
SUMMARY:APERICUAMM
DESCRIPTION: APERICUAMM
END:VEVENT
END:VCALENDAR