BEGIN:VCALENDAR
VERSION:2.0
PRODID:-//eventon.com NONSGML v1.0//EN
BEGIN:VEVENT
UID:69e662aac9fc9
DTSTAMP:20260420T193018
DTSTART:20260516T080000Z
DTEND:20260516T215000Z
LOCATION:
SUMMARY:IL BENE CONTAGIOSO
DESCRIPTION: IL BENE CONTAGIOSO
END:VEVENT
END:VCALENDAR