BEGIN:VCALENDAR
VERSION:2.0
PRODID:-//eventon.com NONSGML v1.0//EN
BEGIN:VEVENT
UID:69e8942d7bc3f
DTSTAMP:20260422T112605
DTSTART:20260510T080000Z
DTEND:20260510T215000Z
LOCATION:
SUMMARY:IL MERCATO DELLA DOMENICA
DESCRIPTION: IL MERCATO DELLA DOMENICA
END:VEVENT
END:VCALENDAR