BEGIN:VCALENDAR
VERSION:2.0
PRODID:-//eventon.com NONSGML v1.0//EN
BEGIN:VEVENT
UID:69e957dab533b
DTSTAMP:20260423T012058
DTSTART:20260311T220000Z
DTEND:20260412T215900Z
LOCATION:
SUMMARY:MOZART @ PADOVA - EDIZIONE 2026
DESCRIPTION: MOZART @ PADOVA - EDIZIONE 2026
END:VEVENT
END:VCALENDAR