BEGIN:VCALENDAR
VERSION:2.0
PRODID:-//eventon.com NONSGML v1.0//EN
BEGIN:VEVENT
UID:69e4c9e0a079a
DTSTAMP:20260419T142608
DTSTART:20240606T190000Z
DTEND:20240606T215000Z
LOCATION:
SUMMARY:PRESENTAZIONE DEL LIBRO "AFRICA - ANDATA E RITORNO"
DESCRIPTION: PRESENTAZIONE DEL LIBRO "AFRICA - ANDATA E RITORNO"
END:VEVENT
END:VCALENDAR