BEGIN:VCALENDAR
VERSION:2.0
PRODID:-//eventon.com NONSGML v1.0//EN
BEGIN:VEVENT
UID:69e4e39308959
DTSTAMP:20260419T161547
DTSTART:20240529T184500Z
DTEND:20240529T215000Z
LOCATION:
SUMMARY:CONCERTO SOROPTIMIST
DESCRIPTION: CONCERTO SOROPTIMIST
END:VEVENT
END:VCALENDAR