BEGIN:VCALENDAR
VERSION:2.0
PRODID:-//eventon.com NONSGML v1.0//EN
BEGIN:VEVENT
UID:69e51a939cf9e
DTSTAMP:20260419T201027
DTSTART:20240526T090000Z
DTEND:20240526T215000Z
LOCATION:
SUMMARY:FESTA PER IL CUAMM
DESCRIPTION: FESTA PER IL CUAMM
END:VEVENT
END:VCALENDAR