BEGIN:VCALENDAR
VERSION:2.0
PRODID:-//eventon.com NONSGML v1.0//EN
BEGIN:VEVENT
UID:69e51ceaa7910
DTSTAMP:20260419T202026
DTSTART:20240523T160000Z
DTEND:20240523T215000Z
LOCATION:
SUMMARY:PRESENTAZIONE del LIBRO "AFRICA - ANDATA E RITORNO"
DESCRIPTION: PRESENTAZIONE del LIBRO "AFRICA - ANDATA E RITORNO"
END:VEVENT
END:VCALENDAR