BEGIN:VCALENDAR
VERSION:2.0
PRODID:-//eventon.com NONSGML v1.0//EN
BEGIN:VEVENT
UID:69e555ecbb7bf
DTSTAMP:20260420T002340
DTSTART:20240517T220000Z
DTEND:20240519T215900Z
LOCATION:
SUMMARY:GIORNATA DEL RISO
DESCRIPTION: GIORNATA DEL RISO
END:VEVENT
END:VCALENDAR