BEGIN:VCALENDAR
VERSION:2.0
PRODID:-//eventon.com NONSGML v1.0//EN
BEGIN:VEVENT
UID:69e555f245d5d
DTSTAMP:20260420T002346
DTSTART:20240518T160000Z
DTEND:20240518T220000Z
LOCATION:
SUMMARY:GIORNATA DEL RISO
DESCRIPTION: GIORNATA DEL RISO
END:VEVENT
END:VCALENDAR