BEGIN:VCALENDAR
VERSION:2.0
PRODID:-//eventon.com NONSGML v1.0//EN
BEGIN:VEVENT
UID:69e5702303d5e
DTSTAMP:20260420T021531
DTSTART:20240516T184500Z
DTEND:20240516T215000Z
LOCATION:
SUMMARY:LA SALUTE E I PERCORSI DI CURA NELLE POPOLAZIONI DEL SUD SUDAN
DESCRIPTION: LA SALUTE E I PERCORSI DI CURA NELLE POPOLAZIONI DEL SUD SUDAN
END:VEVENT
END:VCALENDAR