BEGIN:VCALENDAR
VERSION:2.0
PRODID:-//eventon.com NONSGML v1.0//EN
BEGIN:VEVENT
UID:69e58b3e566ca
DTSTAMP:20260420T041110
DTSTART:20240512T133000Z
DTEND:20240512T215000Z
LOCATION:
SUMMARY:UN MONDO D'AMORE OMAGGIO A GIANNI MORANDI
DESCRIPTION: UN MONDO D'AMORE OMAGGIO A GIANNI MORANDI
END:VEVENT
END:VCALENDAR