BEGIN:VCALENDAR
VERSION:2.0
PRODID:-//eventon.com NONSGML v1.0//EN
BEGIN:VEVENT
UID:69e5a6dc97063
DTSTAMP:20260420T060900
DTSTART:20240518T090000Z
DTEND:20240518T215000Z
LOCATION:
SUMMARY:VISTO DA QUI. Dalla Toscana all'Africa\,  l'impegno del Cuamm
DESCRIPTION: PER ISCRIVERSI Clicca qui: https://www.mediciconlafrica.org/eventopisa
END:VEVENT
END:VCALENDAR