BEGIN:VCALENDAR
VERSION:2.0
PRODID:-//eventon.com NONSGML v1.0//EN
BEGIN:VEVENT
UID:69e5dbc35231f
DTSTAMP:20260420T095443
DTSTART:20240516T184500Z
DTEND:20240516T215000Z
LOCATION:
SUMMARY:Presentazione del libro "Africa andata e ritorno"
DESCRIPTION: Presentazione del libro "Africa andata e ritorno"
END:VEVENT
END:VCALENDAR