BEGIN:VCALENDAR
VERSION:2.0
PRODID:-//eventon.com NONSGML v1.0//EN
BEGIN:VEVENT
UID:69e5dbc2cd068
DTSTAMP:20260420T095442
DTSTART:20240511T123000Z
DTEND:20240511T215000Z
LOCATION:
SUMMARY:VOGA SOLIDALE: ACQUA ACCESSIBILE PER TUTTI
DESCRIPTION: Per informazioni: https://docs.google.com/forms/d/e/1FAIpQLSfCS7DYqnK0v4bdDXmnsfF4QDC5mGXxZV_2_e_nymkMScbFSQ/viewform
END:VEVENT
END:VCALENDAR