BEGIN:VCALENDAR
VERSION:2.0
PRODID:-//eventon.com NONSGML v1.0//EN
BEGIN:VEVENT
UID:69e5f8d2aca35
DTSTAMP:20260420T115842
DTSTART:20240510T160000Z
DTEND:20240510T215000Z
LOCATION:
SUMMARY:MORE THAN BEER
DESCRIPTION: MORE THAN BEER
END:VEVENT
END:VCALENDAR