BEGIN:VCALENDAR
VERSION:2.0
PRODID:-//eventon.com NONSGML v1.0//EN
BEGIN:VEVENT
UID:69e6133179d75
DTSTAMP:20260420T135113
DTSTART:20240509T150000Z
DTEND:20240509T215000Z
LOCATION:
SUMMARY:Afro party
DESCRIPTION: FESTA STUDENTI CUAMM &nbsp; per informazioni: https://studenticuamm.idcompany.it/
END:VEVENT
END:VCALENDAR