BEGIN:VCALENDAR
VERSION:2.0
PRODID:-//eventon.com NONSGML v1.0//EN
BEGIN:VEVENT
UID:69e62e08a2164
DTSTAMP:20260420T154544
DTSTART:20240508T160000Z
DTEND:20240508T215000Z
LOCATION:
SUMMARY:RACCONTI DALL’ETIOPIA
DESCRIPTION: RACCONTI DALL’ETIOPIA
END:VEVENT
END:VCALENDAR