BEGIN:VCALENDAR
VERSION:2.0
PRODID:-//eventon.com NONSGML v1.0//EN
BEGIN:VEVENT
UID:69e6470085bb1
DTSTAMP:20260420T173216
DTSTART:20240504T160000Z
DTEND:20240504T215000Z
LOCATION:
SUMMARY:CONCERTO "CANTIAMO LA PACE"
DESCRIPTION: CONCERTO "CANTIAMO LA PACE"
END:VEVENT
END:VCALENDAR