BEGIN:VCALENDAR
VERSION:2.0
PRODID:-//eventon.com NONSGML v1.0//EN
BEGIN:VEVENT
UID:69e67f0146db1
DTSTAMP:20260420T213113
DTSTART:20240503T220000Z
DTEND:20240505T215900Z
LOCATION:
SUMMARY:BANCHETTO CUAMM AL CANLENDIMAGGIO 2024
DESCRIPTION: Il banchetto solidale dei volontaridel gruppo Cuamm Vicenza vi aspetta alla Fiera CalendiMaggio di Sandrigo\,  i giorni 4 e 5 maggio! Non mancate!
END:VEVENT
END:VCALENDAR