BEGIN:VCALENDAR
VERSION:2.0
PRODID:-//eventon.com NONSGML v1.0//EN
BEGIN:VEVENT
UID:69e67ee11595d
DTSTAMP:20260420T213041
DTSTART:20240523T184500Z
DTEND:20240523T215000Z
LOCATION:
SUMMARY:MEDICI CON L'AFRICA CUAMM
DESCRIPTION: MEDICI CON L'AFRICA CUAMM
END:VEVENT
END:VCALENDAR