BEGIN:VCALENDAR
VERSION:2.0
PRODID:-//eventon.com NONSGML v1.0//EN
BEGIN:VEVENT
UID:69e6b2dc9bc68
DTSTAMP:20260421T011228
DTSTART:20240511T123000Z
DTEND:20240511T215000Z
LOCATION:
SUMMARY:estrazione LOTTERIA CUAMM
DESCRIPTION: estrazione LOTTERIA CUAMM
END:VEVENT
END:VCALENDAR