BEGIN:VCALENDAR
VERSION:2.0
PRODID:-//eventon.com NONSGML v1.0//EN
BEGIN:VEVENT
UID:69e6b2dd11146
DTSTAMP:20260421T011229
DTSTART:20240508T184500Z
DTEND:20240508T215000Z
LOCATION:
SUMMARY:PRESENTAZIONE del LIBRO "AFRICA. ANDATA E RITORNO"
DESCRIPTION: PRESENTAZIONE del LIBRO "AFRICA. ANDATA E RITORNO"
END:VEVENT
END:VCALENDAR