BEGIN:VCALENDAR
VERSION:2.0
PRODID:-//eventon.com NONSGML v1.0//EN
BEGIN:VEVENT
UID:69e6e715b834e
DTSTAMP:20260421T045517
DTSTART:20240508T150000Z
DTEND:20240508T215000Z
LOCATION:
SUMMARY:PRESENTAZIONE PROGETTO WOLISSO
DESCRIPTION: PRESENTAZIONE PROGETTO WOLISSO
END:VEVENT
END:VCALENDAR