BEGIN:VCALENDAR
VERSION:2.0
PRODID:-//eventon.com NONSGML v1.0//EN
BEGIN:VEVENT
UID:69e7008883737
DTSTAMP:20260421T064352
DTSTART:20240504T153000Z
DTEND:20240504T215000Z
LOCATION:
SUMMARY:I GIOVANI E IL VOLONTARIATO NEL MONDO
DESCRIPTION: I GIOVANI E IL VOLONTARIATO NEL MONDO
END:VEVENT
END:VCALENDAR