BEGIN:VCALENDAR
VERSION:2.0
PRODID:-//eventon.com NONSGML v1.0//EN
BEGIN:VEVENT
UID:69e700814c53a
DTSTAMP:20260421T064345
DTSTART:20240502T220000Z
DTEND:20240504T220000Z
LOCATION:
SUMMARY:MERCANTE IN BRERA
DESCRIPTION: MERCANTE IN BRERA
END:VEVENT
END:VCALENDAR