BEGIN:VCALENDAR
VERSION:2.0
PRODID:-//eventon.com NONSGML v1.0//EN
BEGIN:VEVENT
UID:69e71ba71ca2b
DTSTAMP:20260421T083935
DTSTART:20240517T183000Z
DTEND:20240517T215000Z
LOCATION:
SUMMARY:CONCERTO PER WOLISSO
DESCRIPTION: CONCERTO PER WOLISSO
END:VEVENT
END:VCALENDAR