BEGIN:VCALENDAR
VERSION:2.0
PRODID:-//eventon.com NONSGML v1.0//EN
BEGIN:VEVENT
UID:69e7348550c86
DTSTAMP:20260421T102541
DTSTART:20240417T075100Z
DTEND:20240417T075100Z
LOCATION:
SUMMARY:CONCERTO "GLI ANTENORI PER IL CUAMM"
DESCRIPTION: CONCERTO "GLI ANTENORI PER IL CUAMM"
END:VEVENT
END:VCALENDAR