BEGIN:VCALENDAR
VERSION:2.0
PRODID:-//eventon.com NONSGML v1.0//EN
BEGIN:VEVENT
UID:69e7484724230
DTSTAMP:20260421T114959
DTSTART:20240516T190000Z
DTEND:20240516T215000Z
LOCATION:
SUMMARY:CONCERTO "GLI ANTENORI PER IL CUAMM"
DESCRIPTION: CONCERTO "GLI ANTENORI PER IL CUAMM"
END:VEVENT
END:VCALENDAR