BEGIN:VCALENDAR
VERSION:2.0
PRODID:-//eventon.com NONSGML v1.0//EN
BEGIN:VEVENT
UID:69e7646625999
DTSTAMP:20260421T134958
DTSTART:20240510T160000Z
DTEND:20240510T215000Z
LOCATION:
SUMMARY:Presentazione del libro "Acqua e Zucchero"
DESCRIPTION: Presentazione del libro "Acqua e Zucchero"
END:VEVENT
END:VCALENDAR