BEGIN:VCALENDAR
VERSION:2.0
PRODID:-//eventon.com NONSGML v1.0//EN
BEGIN:VEVENT
UID:69e77e97dfe70
DTSTAMP:20260421T154143
DTSTART:20240509T163000Z
DTEND:20240509T215000Z
LOCATION:
SUMMARY:Africa. Andata e ritorno.
DESCRIPTION: Africa. Andata e ritorno.
END:VEVENT
END:VCALENDAR