BEGIN:VCALENDAR
VERSION:2.0
PRODID:-//eventon.com NONSGML v1.0//EN
BEGIN:VEVENT
UID:69e7ac5e00414
DTSTAMP:20260421T185702
DTSTART:20240507T150000Z
DTEND:20240507T215000Z
LOCATION:
SUMMARY:Presentazione del libro "Africa. Andata e ritorno."
DESCRIPTION: Presentazione del libro "Africa. Andata e ritorno."
END:VEVENT
END:VCALENDAR