BEGIN:VCALENDAR
VERSION:2.0
PRODID:-//eventon.com NONSGML v1.0//EN
BEGIN:VEVENT
UID:69e7b11e714a2
DTSTAMP:20260421T191718
DTSTART:20240504T220000Z
DTEND:20240508T215900Z
LOCATION:
SUMMARY:SGUARDI CAPOVOLTI
DESCRIPTION: SGUARDI CAPOVOLTI
END:VEVENT
END:VCALENDAR