BEGIN:VCALENDAR
VERSION:2.0
PRODID:-//eventon.com NONSGML v1.0//EN
BEGIN:VEVENT
UID:69e7ca04e164d
DTSTAMP:20260421T210332
DTSTART:20240510T184500Z
DTEND:20240510T215000Z
LOCATION:
SUMMARY:BLUBORDÒ E ALE PASCALI UNPLUGGED FOR CUAMM
DESCRIPTION: https://www.retedeldono.it/blubordo-ale-pascali-unplugged-for-cuamm
END:VEVENT
END:VCALENDAR