BEGIN:VCALENDAR
VERSION:2.0
PRODID:-//eventon.com NONSGML v1.0//EN
BEGIN:VEVENT
UID:69e7e0f3e627c
DTSTAMP:20260421T224123
DTSTART:20240504T220000Z
DTEND:20240505T215900Z
LOCATION:
SUMMARY:MERCATINO SOLIDALE
DESCRIPTION: Vi aspettiamo alla "Piccola fiera di Maggio"\,  all'interno della splendida cornice di Villa Rossi a Santorso con un mercatino solidale. Il ricavato sarà devoluto alle iniziative di Medici con l'Africa Cuamm
END:VEVENT
END:VCALENDAR