BEGIN:VCALENDAR
VERSION:2.0
PRODID:-//eventon.com NONSGML v1.0//EN
BEGIN:VEVENT
UID:69e7fd6e4bb27
DTSTAMP:20260422T004254
DTSTART:20240420T133000Z
DTEND:20240420T215000Z
LOCATION:
SUMMARY:FESTA DEDICATA ALLE DONNE
DESCRIPTION: FESTA DEDICATA ALLE DONNE
END:VEVENT
END:VCALENDAR