BEGIN:VCALENDAR
VERSION:2.0
PRODID:-//eventon.com NONSGML v1.0//EN
BEGIN:VEVENT
UID:69e8174539fb8
DTSTAMP:20260422T023309
DTSTART:20240416T190000Z
DTEND:20240416T215000Z
LOCATION:
SUMMARY:CUAMM: TESTIMONIANZA DALL’OSPEDALE PEDIATRICO DI BANGUI
DESCRIPTION: CUAMM: TESTIMONIANZA DALL’OSPEDALE PEDIATRICO DI BANGUI
END:VEVENT
END:VCALENDAR