BEGIN:VCALENDAR
VERSION:2.0
PRODID:-//eventon.com NONSGML v1.0//EN
BEGIN:VEVENT
UID:69e82f8f2dab9
DTSTAMP:20260422T041647
DTSTART:20240418T220000Z
DTEND:20240419T215900Z
LOCATION:
SUMMARY:A cena con il Cuamm
DESCRIPTION: A cena con il Cuamm
END:VEVENT
END:VCALENDAR