BEGIN:VCALENDAR
VERSION:2.0
PRODID:-//eventon.com NONSGML v1.0//EN
BEGIN:VEVENT
UID:69e84894be77b
DTSTAMP:20260422T060332
DTSTART:20240419T220000Z
DTEND:20240420T215900Z
LOCATION:
SUMMARY:Commedia "Gli analfabeti di Conventone"
DESCRIPTION: Commedia "Gli analfabeti di Conventone"
END:VEVENT
END:VCALENDAR