BEGIN:VCALENDAR
VERSION:2.0
PRODID:-//eventon.com NONSGML v1.0//EN
BEGIN:VEVENT
UID:69e860a5e86f5
DTSTAMP:20260422T074613
DTSTART:20240413T070000Z
DTEND:20240414T170000Z
LOCATION:
SUMMARY:Banchetto solidale alla Fiera di Primavera
DESCRIPTION: All'interno degli spazi della 63° Fiera di Primavera\,  sabato 13 e domenica 14 aprile\,  il club Rotary Mondovi' organizza un banchetto solidale con i colorati gadget di Medici con l'Africa Cuamm. Le offerte raccolte saranno destinate alla campagna di raccolta fondi "A casa mia" a favore della formazione del personale[..]
END:VEVENT
END:VCALENDAR