BEGIN:VCALENDAR
VERSION:2.0
PRODID:-//eventon.com NONSGML v1.0//EN
BEGIN:VEVENT
UID:69e8942cae676
DTSTAMP:20260422T112604
DTSTART:20240420T190000Z
DTEND:20240420T215000Z
LOCATION:
SUMMARY:"My fair lady. Gilda & friends" - Spettacolo tra musica ed immagini
DESCRIPTION: "My fair lady. Gilda & friends" - Spettacolo tra musica ed immagini
END:VEVENT
END:VCALENDAR