BEGIN:VCALENDAR
VERSION:2.0
PRODID:-//eventon.com NONSGML v1.0//EN
BEGIN:VEVENT
UID:69e8ab02c9db4
DTSTAMP:20260422T130330
DTSTART:20240511T143000Z
DTEND:20240511T215000Z
LOCATION:
SUMMARY:Fino all'ultimo miglio
DESCRIPTION: Iscriviti all'evento! &nbsp;
END:VEVENT
END:VCALENDAR