BEGIN:VCALENDAR
VERSION:2.0
PRODID:-//eventon.com NONSGML v1.0//EN
BEGIN:VEVENT
UID:69e8c2b09c7b5
DTSTAMP:20260422T144432
DTSTART:20240421T070000Z
DTEND:20240421T215000Z
LOCATION:
SUMMARY:ITALIAN MOTOR WEEK
DESCRIPTION: ITALIAN MOTOR WEEK
END:VEVENT
END:VCALENDAR