BEGIN:VCALENDAR
VERSION:2.0
PRODID:-//eventon.com NONSGML v1.0//EN
BEGIN:VEVENT
UID:69e8d962b9799
DTSTAMP:20260422T162122
DTSTART:20240414T110000Z
DTEND:20240414T215000Z
LOCATION:
SUMMARY:PRANZO ETNICO SOLIDALE
DESCRIPTION: PRANZO ETNICO SOLIDALE
END:VEVENT
END:VCALENDAR