BEGIN:VCALENDAR
VERSION:2.0
PRODID:-//eventon.com NONSGML v1.0//EN
BEGIN:VEVENT
UID:69e8dc8ff33e8
DTSTAMP:20260422T163455
DTSTART:20240423T184500Z
DTEND:20240423T215000Z
LOCATION:
SUMMARY:PRESENTAZIONE DEL LIBRO "AFRICA ANDATA E RITORNO"
DESCRIPTION: PRESENTAZIONE DEL LIBRO "AFRICA ANDATA E RITORNO"
END:VEVENT
END:VCALENDAR