BEGIN:VCALENDAR
VERSION:2.0
PRODID:-//eventon.com NONSGML v1.0//EN
BEGIN:VEVENT
UID:69e8f105049af
DTSTAMP:20260422T180213
DTSTART:20240413T160000Z
DTEND:20240413T215000Z
LOCATION:
SUMMARY:FESTA DI SCIENZA E FILOSOFIA
DESCRIPTION: FESTA DI SCIENZA E FILOSOFIA
END:VEVENT
END:VCALENDAR